BEGIN:VCALENDAR
VERSION:2.0
PRODID:-//Tukios.com/
BEGIN:VEVENT
UID:a6b017e2-72a0-4d76-8237-e1c8bcc2319b@www.fernhillfuneral.com
DTSTAMP:20260424T005759Z
DTSTART:20260502T200000Z
DTEND:20260503T000000Z
SUMMARY:Celebration of Life
DESCRIPTION:
URL:https://www.fernhillfuneral.com/obituaries/steven-anderson
LOCATION:Hoquiam Elks Lodge #1082 624 K St.  Hoquiam WA 98550
GEO:46.976788;-123.8876582
END:VEVENT
END:VCALENDAR